BEGIN:VCALENDAR
VERSION:2.0
PRODID:-//213.154.231.201//NONSGML kigkonsult.se iCalcreator 2.20//
CALSCALE:GREGORIAN
METHOD:PUBLISH
X-WR-TIMEZONE:Europe/Amsterdam
BEGIN:VEVENT
UID:event27@Piratenkoor "de Stormvogels"
DTSTAMP:20260424T200707Z
CATEGORIES:Openbaar    Onb
DESCRIPTION:Korenfestival\nCategorie: Openbaar    Onb\nLink: http://piraten
 koor.destormvogels.nl/index.php?option=com_jem&view=event&id=27:korenfesti
 val\n
DTSTART;TZID=Europe/Amsterdam:20120818T120000
DTEND;TZID=Europe/Amsterdam:20120818T180000
LOCATION:Ugchelen\,Ugchelen
SUMMARY:Korenfestival
URL:http://piratenkoor.destormvogels.nl/index.php?option=com_jem&view=event
 &id=27:korenfestival
END:VEVENT
END:VCALENDAR