BEGIN:VCALENDAR
VERSION:2.0
PRODID:-//213.154.231.201//NONSGML kigkonsult.se iCalcreator 2.20//
CALSCALE:GREGORIAN
METHOD:PUBLISH
X-WR-TIMEZONE:Europe/Amsterdam
BEGIN:VEVENT
UID:event280@Piratenkoor "de Stormvogels"
DTSTAMP:20260424T163442Z
CATEGORIES:Openbaar     G.i.
DESCRIPTION:Dagcentrum De Beek\nCategorie: Openbaar     G.i.\nLink: http://
 piratenkoor.destormvogels.nl/index.php?option=com_jem&view=event&id=280:da
 gcentrum-de-beek\n
DTSTART;TZID=Europe/Amsterdam:20181010T130000
DTEND;TZID=Europe/Amsterdam:20181010T153000
LOCATION:Nieuw-Schoonebeek\,Nieuw-Schoonebeek
SUMMARY:Dagcentrum De Beek
URL:http://piratenkoor.destormvogels.nl/index.php?option=com_jem&view=event
 &id=280:dagcentrum-de-beek
END:VEVENT
END:VCALENDAR