BEGIN:VCALENDAR
VERSION:2.0
PRODID:-//213.154.231.201//NONSGML kigkonsult.se iCalcreator 2.20//
CALSCALE:GREGORIAN
METHOD:PUBLISH
X-WR-TIMEZONE:Europe/Amsterdam
BEGIN:VEVENT
UID:event282@Piratenkoor "de Stormvogels"
DTSTAMP:20260424T191545Z
CATEGORIES:Openbaar     G.i.
DESCRIPTION:Festival Hanzestad Stade\nCategorie: Openbaar     G.i.\nLink: h
 ttp://piratenkoor.destormvogels.nl/index.php?option=com_jem&view=event&id=
 282:festival-hanzestad-stade\n
DTSTART;TZID=Europe/Amsterdam:20181014T131500
DTEND;TZID=Europe/Amsterdam:20181014T151500
LOCATION:Stade (D)\,Pferdemarkt\,21682 Stade
SUMMARY:Festival Hanzestad Stade
URL:http://piratenkoor.destormvogels.nl/index.php?option=com_jem&view=event
 &id=282:festival-hanzestad-stade
END:VEVENT
END:VCALENDAR