BEGIN:VCALENDAR
VERSION:2.0
PRODID:-//213.154.231.201//NONSGML kigkonsult.se iCalcreator 2.20//
CALSCALE:GREGORIAN
METHOD:PUBLISH
X-WR-TIMEZONE:Europe/Amsterdam
BEGIN:VEVENT
UID:event283@Piratenkoor "de Stormvogels"
DTSTAMP:20260424T130615Z
CATEGORIES:Besloten    K.i.
DESCRIPTION:Parc Centrum Sandur\nCategorie: Besloten    K.i.\nLink: http://
 piratenkoor.destormvogels.nl/index.php?option=com_jem&view=event&id=283:pa
 rc-centr-sandur\n
DTSTART;TZID=Europe/Amsterdam:20181021T133000
DTEND;TZID=Europe/Amsterdam:20181021T170000
LOCATION:Parc Centrum Sandur\,Sandurdreef 5\,7828 AA Emmen
SUMMARY:Parc Centrum Sandur
URL:http://piratenkoor.destormvogels.nl/index.php?option=com_jem&view=event
 &id=283:parc-centr-sandur
END:VEVENT
END:VCALENDAR