BEGIN:VCALENDAR
VERSION:2.0
PRODID:-//213.154.231.201//NONSGML kigkonsult.se iCalcreator 2.20//
CALSCALE:GREGORIAN
METHOD:PUBLISH
X-WR-TIMEZONE:Europe/Amsterdam
BEGIN:VEVENT
UID:event284@Piratenkoor "de Stormvogels"
DTSTAMP:20260425T005801Z
CATEGORIES:Besloten    K.i.
DESCRIPTION:Optreden De Schoel\nCategorie: Besloten    K.i.\nLink: http://p
 iratenkoor.destormvogels.nl/index.php?option=com_jem&view=event&id=284:opt
 reden-de-schoel\n
DTSTART;TZID=Europe/Amsterdam:20181113T193000
DTEND;TZID=Europe/Amsterdam:20181113T213000
LOCATION:Sleen\,Drostenstraat 1\,Sleen
SUMMARY:Optreden De Schoel
URL:http://piratenkoor.destormvogels.nl/index.php?option=com_jem&view=event
 &id=284:optreden-de-schoel
END:VEVENT
END:VCALENDAR