BEGIN:VCALENDAR
VERSION:2.0
PRODID:-//213.154.231.201//NONSGML kigkonsult.se iCalcreator 2.20//
CALSCALE:GREGORIAN
METHOD:PUBLISH
X-WR-TIMEZONE:Europe/Amsterdam
BEGIN:VEVENT
UID:event286@Piratenkoor "de Stormvogels"
DTSTAMP:20260424T202412Z
CATEGORIES:Besloten    G.i.
DESCRIPTION:Laatste 'repetitieavond' 2018\nCategorie: Besloten    G.i.\nLin
 k: http://piratenkoor.destormvogels.nl/index.php?option=com_jem&view=event
 &id=286:laatste-repetitieavond-2018\n
DTSTART;TZID=Europe/Amsterdam:20181218T193000
DTEND;TZID=Europe/Amsterdam:20181218T220000
LOCATION:'t Schienvat op Erica\,Heidebloemstraat 4\,7887 EB Erica
SUMMARY:Laatste 'repetitieavond' 2018
URL:http://piratenkoor.destormvogels.nl/index.php?option=com_jem&view=event
 &id=286:laatste-repetitieavond-2018
END:VEVENT
END:VCALENDAR