BEGIN:VCALENDAR
VERSION:2.0
PRODID:-//213.154.231.201//NONSGML kigkonsult.se iCalcreator 2.20//
CALSCALE:GREGORIAN
METHOD:PUBLISH
X-WR-TIMEZONE:Europe/Amsterdam
BEGIN:VEVENT
UID:event288@Piratenkoor "de Stormvogels"
DTSTAMP:20260425T104707Z
CATEGORIES:Openbaar   Derden
DESCRIPTION:Eerste repetitieavond 2019\nCategorie: Openbaar   Derden\nLink:
  http://piratenkoor.destormvogels.nl/index.php?option=com_jem&view=event&i
 d=288:eerste-repetitieavond-2019\n
DTSTART;TZID=Europe/Amsterdam:20190108T193000
DTEND;TZID=Europe/Amsterdam:20190108T213000
LOCATION:'t Schienvat op Erica\,Heidebloemstraat 4\,7887 EB Erica
SUMMARY:Eerste repetitieavond 2019
URL:http://piratenkoor.destormvogels.nl/index.php?option=com_jem&view=event
 &id=288:eerste-repetitieavond-2019
END:VEVENT
END:VCALENDAR