BEGIN:VCALENDAR
VERSION:2.0
PRODID:-//213.154.231.201//NONSGML kigkonsult.se iCalcreator 2.20//
CALSCALE:GREGORIAN
METHOD:PUBLISH
X-WR-TIMEZONE:Europe/Amsterdam
BEGIN:VEVENT
UID:event290@Piratenkoor "de Stormvogels"
DTSTAMP:20260424T191740Z
CATEGORIES:Besloten    K.i.
DESCRIPTION:60 jaar HEIDEHIEM\nCategorie: Besloten    K.i.\nLink: http://pi
 ratenkoor.destormvogels.nl/index.php?option=com_jem&view=event&id=290:60-j
 aar-heidehiem\n
DTSTART;TZID=Europe/Amsterdam:20190205T193000
DTEND;TZID=Europe/Amsterdam:20190205T210000
LOCATION:Emmen\, Noordbarge\,Huizingsbrinkweg\,7812 BL Emmen
SUMMARY:60 jaar HEIDEHIEM
URL:http://piratenkoor.destormvogels.nl/index.php?option=com_jem&view=event
 &id=290:60-jaar-heidehiem
END:VEVENT
END:VCALENDAR