BEGIN:VCALENDAR
VERSION:2.0
PRODID:-//213.154.231.201//NONSGML kigkonsult.se iCalcreator 2.20//
CALSCALE:GREGORIAN
METHOD:PUBLISH
X-WR-TIMEZONE:Europe/Amsterdam
BEGIN:VEVENT
UID:event291@Piratenkoor "de Stormvogels"
DTSTAMP:20260424T211926Z
CATEGORIES:Besloten    Onb
DESCRIPTION:Shantyfestival     Zwijndrecht\nCategorie: Besloten    Onb\nLin
 k: http://piratenkoor.destormvogels.nl/index.php?option=com_jem&view=event
 &id=291:shantyfestival-zwijndrecht\n
DTSTART;TZID=Europe/Amsterdam:20190209T130000
DTEND;TZID=Europe/Amsterdam:20190209T180000
LOCATION:Zwijndrecht\,Norderstedtplein 10\,3332 GK Zwijndrecht
SUMMARY:Shantyfestival     Zwijndrecht
URL:http://piratenkoor.destormvogels.nl/index.php?option=com_jem&view=event
 &id=291:shantyfestival-zwijndrecht
END:VEVENT
END:VCALENDAR