BEGIN:VCALENDAR
VERSION:2.0
PRODID:-//213.154.231.201//NONSGML kigkonsult.se iCalcreator 2.20//
CALSCALE:GREGORIAN
METHOD:PUBLISH
X-WR-TIMEZONE:Europe/Amsterdam
BEGIN:VEVENT
UID:event294@Piratenkoor "de Stormvogels"
DTSTAMP:20260424T165112Z
CATEGORIES:Besloten    K.i.
DESCRIPTION:Deze avond is er geen repetitie\nCategorie: Besloten    K.i.\nL
 ink: http://piratenkoor.destormvogels.nl/index.php?option=com_jem&view=eve
 nt&id=294:deze-avond-is-er-geen-repetitie\n
DTSTART;TZID=Europe/Amsterdam:20190226T193000
DTEND;TZID=Europe/Amsterdam:20190226T213000
LOCATION:'t Schienvat op Erica\,Heidebloemstraat 4\,7887 EB Erica
SUMMARY:Deze avond is er geen repetitie
URL:http://piratenkoor.destormvogels.nl/index.php?option=com_jem&view=event
 &id=294:deze-avond-is-er-geen-repetitie
END:VEVENT
END:VCALENDAR