BEGIN:VCALENDAR
VERSION:2.0
PRODID:-//213.154.231.201//NONSGML kigkonsult.se iCalcreator 2.20//
CALSCALE:GREGORIAN
METHOD:PUBLISH
X-WR-TIMEZONE:Europe/Amsterdam
BEGIN:VEVENT
UID:event295@Piratenkoor "de Stormvogels"
DTSTAMP:20260424T163442Z
CATEGORIES:Besloten    K.i.
DESCRIPTION:De Noorderbak\nCategorie: Besloten    K.i.\nLink: http://pirate
 nkoor.destormvogels.nl/index.php?option=com_jem&view=event&id=295:de-noord
 erbak\n
DTSTART;TZID=Europe/Amsterdam:20190316T200000
DTEND;TZID=Europe/Amsterdam:20190316T230000
LOCATION:Roswinkel\,Roswinkelerstraat 81B\,7895 AN Roswinkel
SUMMARY:De Noorderbak
URL:http://piratenkoor.destormvogels.nl/index.php?option=com_jem&view=event
 &id=295:de-noorderbak
END:VEVENT
END:VCALENDAR