BEGIN:VCALENDAR
VERSION:2.0
PRODID:-//213.154.231.201//NONSGML kigkonsult.se iCalcreator 2.20//
CALSCALE:GREGORIAN
METHOD:PUBLISH
X-WR-TIMEZONE:Europe/Amsterdam
BEGIN:VEVENT
UID:event297@Piratenkoor "de Stormvogels"
DTSTAMP:20260424T175728Z
CATEGORIES:Openbaar     G.i.
DESCRIPTION:De Schoel\nCategorie: Openbaar     G.i.\nLink: http://piratenko
 or.destormvogels.nl/index.php?option=com_jem&view=event&id=297:de-schoel\n
DTSTART;TZID=Europe/Amsterdam:20190319T193000
DTEND;TZID=Europe/Amsterdam:20190319T213000
LOCATION:Sleen\,Drostenstraat 1\,Sleen
SUMMARY:De Schoel
URL:http://piratenkoor.destormvogels.nl/index.php?option=com_jem&view=event
 &id=297:de-schoel
END:VEVENT
END:VCALENDAR