BEGIN:VCALENDAR
VERSION:2.0
PRODID:-//213.154.231.201//NONSGML kigkonsult.se iCalcreator 2.20//
CALSCALE:GREGORIAN
METHOD:PUBLISH
X-WR-TIMEZONE:Europe/Amsterdam
BEGIN:VEVENT
UID:event299@Piratenkoor "de Stormvogels"
DTSTAMP:20260425T021030Z
CATEGORIES:Openbaar   Derden
DESCRIPTION:Woonzorglocatie  De Bleerinck\nCategorie: Openbaar   Derden\nLi
 nk: http://piratenkoor.destormvogels.nl/index.php?option=com_jem&view=even
 t&id=299:woonzorglocatie-de-bleerinck\n
DTSTART;TZID=Europe/Amsterdam:20190507T190000
DTEND;TZID=Europe/Amsterdam:20190507T203000
LOCATION:de Bleerinck\, Emmen\,Spehornerbrink 1\,7812 KA Emmen
SUMMARY:Woonzorglocatie  De Bleerinck
URL:http://piratenkoor.destormvogels.nl/index.php?option=com_jem&view=event
 &id=299:woonzorglocatie-de-bleerinck
END:VEVENT
END:VCALENDAR