BEGIN:VCALENDAR
VERSION:2.0
PRODID:-//213.154.231.201//NONSGML kigkonsult.se iCalcreator 2.20//
CALSCALE:GREGORIAN
METHOD:PUBLISH
X-WR-TIMEZONE:Europe/Amsterdam
BEGIN:VEVENT
UID:event2@Piratenkoor "de Stormvogels"
DTSTAMP:20260425T171133Z
CATEGORIES:Openbaar    Onb
DESCRIPTION:Kerstfair\nCategorie: Openbaar    Onb\nLink: http://piratenkoor
 .destormvogels.nl/index.php?option=com_jem&view=event&id=2:kerstfair\n
DTSTART;TZID=Europe/Amsterdam:20111211T130000
DTEND;TZID=Europe/Amsterdam:20111211T170000
LOCATION:Markelo\,Markelo
SUMMARY:Kerstfair
URL:http://piratenkoor.destormvogels.nl/index.php?option=com_jem&view=event
 &id=2:kerstfair
END:VEVENT
END:VCALENDAR