BEGIN:VCALENDAR
VERSION:2.0
PRODID:-//213.154.231.201//NONSGML kigkonsult.se iCalcreator 2.20//
CALSCALE:GREGORIAN
METHOD:PUBLISH
X-WR-TIMEZONE:Europe/Amsterdam
BEGIN:VEVENT
UID:event300@Piratenkoor "de Stormvogels"
DTSTAMP:20260424T163439Z
CATEGORIES:Openbaar     G.i.
DESCRIPTION:Parc Centrum Sandur\nCategorie: Openbaar     G.i.\nLink: http:/
 /piratenkoor.destormvogels.nl/index.php?option=com_jem&view=event&id=300:p
 arc-centrum-sandur\n
DTSTART;TZID=Europe/Amsterdam:20190519T133000
DTEND;TZID=Europe/Amsterdam:20190519T163000
LOCATION:Parc Centrum Sandur\,Sandurdreef 5\,7828 AA Emmen
SUMMARY:Parc Centrum Sandur
URL:http://piratenkoor.destormvogels.nl/index.php?option=com_jem&view=event
 &id=300:parc-centrum-sandur
END:VEVENT
END:VCALENDAR