BEGIN:VCALENDAR
VERSION:2.0
PRODID:-//213.154.231.201//NONSGML kigkonsult.se iCalcreator 2.20//
CALSCALE:GREGORIAN
METHOD:PUBLISH
X-WR-TIMEZONE:Europe/Amsterdam
BEGIN:VEVENT
UID:event302@Piratenkoor "de Stormvogels"
DTSTAMP:20260424T162057Z
CATEGORIES:Openbaar     G.i.
DESCRIPTION:Seelzer Shanty Festival 2019\nCategorie: Openbaar     G.i.\nLin
 k: http://piratenkoor.destormvogels.nl/index.php?option=com_jem&view=event
 &id=302:seelzer-shanty-festival-2019\n
DTSTART;TZID=Europe/Amsterdam:20190601T120000
DTEND;TZID=Europe/Amsterdam:20190602T160000
LOCATION:Seelze (D)\,Hannoversche Str. 19\,30926 Seelze
SUMMARY:Seelzer Shanty Festival 2019
URL:http://piratenkoor.destormvogels.nl/index.php?option=com_jem&view=event
 &id=302:seelzer-shanty-festival-2019
END:VEVENT
END:VCALENDAR