BEGIN:VCALENDAR
VERSION:2.0
PRODID:-//213.154.231.201//NONSGML kigkonsult.se iCalcreator 2.20//
CALSCALE:GREGORIAN
METHOD:PUBLISH
X-WR-TIMEZONE:Europe/Amsterdam
BEGIN:VEVENT
UID:event303@Piratenkoor "de Stormvogels"
DTSTAMP:20260424T212515Z
CATEGORIES:Openbaar   Derden
DESCRIPTION:de Lanijto\nCategorie: Openbaar   Derden\nLink: http://piratenk
 oor.destormvogels.nl/index.php?option=com_jem&view=event&id=303:de-lanijto
 \n
DTSTART;TZID=Europe/Amsterdam:20190606T140000
DTEND;TZID=Europe/Amsterdam:20190606T163000
LOCATION:Manege\, Beilen\,Hoefslag 20\,9412 BH Beilen
SUMMARY:de Lanijto
URL:http://piratenkoor.destormvogels.nl/index.php?option=com_jem&view=event
 &id=303:de-lanijto
END:VEVENT
END:VCALENDAR