BEGIN:VCALENDAR
VERSION:2.0
PRODID:-//213.154.231.201//NONSGML kigkonsult.se iCalcreator 2.20//
CALSCALE:GREGORIAN
METHOD:PUBLISH
X-WR-TIMEZONE:Europe/Amsterdam
BEGIN:VEVENT
UID:event306@Piratenkoor "de Stormvogels"
DTSTAMP:20260424T154803Z
CATEGORIES:Besloten    G.i.
DESCRIPTION:Shantyfestival Apen   (Dld)\nCategorie: Besloten    G.i.\nLink:
  http://piratenkoor.destormvogels.nl/index.php?option=com_jem&view=event&i
 d=306:shantyfestival-apen-dld\n
DTSTART;TZID=Europe/Amsterdam:20190623T110000
DTEND;TZID=Europe/Amsterdam:20190623T170000
LOCATION:Apen (D)\,An der Wiek 30\,26689 Apen
SUMMARY:Shantyfestival Apen   (Dld)
URL:http://piratenkoor.destormvogels.nl/index.php?option=com_jem&view=event
 &id=306:shantyfestival-apen-dld
END:VEVENT
END:VCALENDAR