BEGIN:VCALENDAR
VERSION:2.0
PRODID:-//213.154.231.201//NONSGML kigkonsult.se iCalcreator 2.20//
CALSCALE:GREGORIAN
METHOD:PUBLISH
X-WR-TIMEZONE:Europe/Amsterdam
BEGIN:VEVENT
UID:event307@Piratenkoor "de Stormvogels"
DTSTAMP:20260424T162056Z
CATEGORIES:Besloten    K.i.
DESCRIPTION:Shantyfestival Elburg\nCategorie: Besloten    K.i.\nLink: http:
 //piratenkoor.destormvogels.nl/index.php?option=com_jem&view=event&id=307:
 shantyfestival-elburg\n
DTSTART;TZID=Europe/Amsterdam:20190629T120000
DTEND;TZID=Europe/Amsterdam:20190629T173000
LOCATION:Elburg\,Elburg
SUMMARY:Shantyfestival Elburg
URL:http://piratenkoor.destormvogels.nl/index.php?option=com_jem&view=event
 &id=307:shantyfestival-elburg
END:VEVENT
END:VCALENDAR