BEGIN:VCALENDAR
VERSION:2.0
PRODID:-//213.154.231.201//NONSGML kigkonsult.se iCalcreator 2.20//
CALSCALE:GREGORIAN
METHOD:PUBLISH
X-WR-TIMEZONE:Europe/Amsterdam
BEGIN:VEVENT
UID:event309@Piratenkoor "de Stormvogels"
DTSTAMP:20260424T165431Z
CATEGORIES:Openbaar     G.i.
DESCRIPTION:Laatste repetitieavond van dit seizoen\nCategorie: Openbaar    
  G.i.\nLink: http://piratenkoor.destormvogels.nl/index.php?option=com_jem&
 view=event&id=309:laatste-repetitieavond-van-dit-seizoen\n
DTSTART;TZID=Europe/Amsterdam:20190709T193000
DTEND;TZID=Europe/Amsterdam:20190709T213000
LOCATION:'t Schienvat op Erica\,Heidebloemstraat 4\,7887 EB Erica
SUMMARY:Laatste repetitieavond van dit seizoen
URL:http://piratenkoor.destormvogels.nl/index.php?option=com_jem&view=event
 &id=309:laatste-repetitieavond-van-dit-seizoen
END:VEVENT
END:VCALENDAR