BEGIN:VCALENDAR
VERSION:2.0
PRODID:-//213.154.231.201//NONSGML kigkonsult.se iCalcreator 2.20//
CALSCALE:GREGORIAN
METHOD:PUBLISH
X-WR-TIMEZONE:Europe/Amsterdam
BEGIN:VEVENT
UID:event315@Piratenkoor "de Stormvogels"
DTSTAMP:20260425T171130Z
CATEGORIES:Besloten    K.i.
DESCRIPTION:Siepeldag\nCategorie: Besloten    K.i.\nLink: http://piratenkoo
 r.destormvogels.nl/index.php?option=com_jem&view=event&id=315:siepeldag\n
DTSTART;TZID=Europe/Amsterdam:20190731T190000
DTEND;TZID=Europe/Amsterdam:20190731T210000
LOCATION:Dwingeloo\,Brink 4\,Dwingeloo
SUMMARY:Siepeldag
URL:http://piratenkoor.destormvogels.nl/index.php?option=com_jem&view=event
 &id=315:siepeldag
END:VEVENT
END:VCALENDAR