BEGIN:VCALENDAR
VERSION:2.0
PRODID:-//213.154.231.201//NONSGML kigkonsult.se iCalcreator 2.20//
CALSCALE:GREGORIAN
METHOD:PUBLISH
X-WR-TIMEZONE:Europe/Amsterdam
BEGIN:VEVENT
UID:event317@Piratenkoor "de Stormvogels"
DTSTAMP:20260426T005126Z
CATEGORIES:Besloten    K.i.
DESCRIPTION:Open Air Geeste\nCategorie: Besloten    K.i.\nLink: http://pira
 tenkoor.destormvogels.nl/index.php?option=com_jem&view=event&id=317:open-a
 ir-geeste\n
DTSTART;TZID=Europe/Amsterdam:20190811T130000
DTEND;TZID=Europe/Amsterdam:20190811T180000
LOCATION:Geeste (D)\,Geeste 
SUMMARY:Open Air Geeste
URL:http://piratenkoor.destormvogels.nl/index.php?option=com_jem&view=event
 &id=317:open-air-geeste
END:VEVENT
END:VCALENDAR