BEGIN:VCALENDAR
VERSION:2.0
PRODID:-//213.154.231.201//NONSGML kigkonsult.se iCalcreator 2.20//
CALSCALE:GREGORIAN
METHOD:PUBLISH
X-WR-TIMEZONE:Europe/Amsterdam
BEGIN:VEVENT
UID:event319@Piratenkoor "de Stormvogels"
DTSTAMP:20260425T152250Z
CATEGORIES:Openbaar     G.i.
DESCRIPTION:Shantyfestival Putten\nCategorie: Openbaar     G.i.\nLink: http
 ://piratenkoor.destormvogels.nl/index.php?option=com_jem&view=event&id=319
 :shantyfestival-putten\n
DTSTART;TZID=Europe/Amsterdam:20190817T113000
DTEND;TZID=Europe/Amsterdam:20190817T173000
LOCATION:Putten\,Putten
SUMMARY:Shantyfestival Putten
URL:http://piratenkoor.destormvogels.nl/index.php?option=com_jem&view=event
 &id=319:shantyfestival-putten
END:VEVENT
END:VCALENDAR