BEGIN:VCALENDAR
VERSION:2.0
PRODID:-//213.154.231.201//NONSGML kigkonsult.se iCalcreator 2.20//
CALSCALE:GREGORIAN
METHOD:PUBLISH
X-WR-TIMEZONE:Europe/Amsterdam
BEGIN:VEVENT
UID:event320@Piratenkoor "de Stormvogels"
DTSTAMP:20260424T191552Z
CATEGORIES:Openbaar     G.i.
DESCRIPTION:Eerste repetitieavond\nCategorie: Openbaar     G.i.\nLink: http
 ://piratenkoor.destormvogels.nl/index.php?option=com_jem&view=event&id=320
 :eerste-repetitieavond\n
DTSTART;TZID=Europe/Amsterdam:20190827T193000
DTEND;TZID=Europe/Amsterdam:20190827T213000
LOCATION:'t Schienvat op Erica\,Heidebloemstraat 4\,7887 EB Erica
SUMMARY:Eerste repetitieavond
URL:http://piratenkoor.destormvogels.nl/index.php?option=com_jem&view=event
 &id=320:eerste-repetitieavond
END:VEVENT
END:VCALENDAR