BEGIN:VCALENDAR
VERSION:2.0
PRODID:-//213.154.231.201//NONSGML kigkonsult.se iCalcreator 2.20//
CALSCALE:GREGORIAN
METHOD:PUBLISH
X-WR-TIMEZONE:Europe/Amsterdam
BEGIN:VEVENT
UID:event324@Piratenkoor "de Stormvogels"
DTSTAMP:20260424T161439Z
CATEGORIES:Openbaar     G.i.
DESCRIPTION:Shantyfestival Hagen im Bremischen\nCategorie: Openbaar     G.i
 .\nLink: http://piratenkoor.destormvogels.nl/index.php?option=com_jem&view
 =event&id=324:shantyfestival-hagen-im-bremischen\n
DTSTART;TZID=Europe/Amsterdam:20190915T120000
DTEND;TZID=Europe/Amsterdam:20190915T170000
LOCATION:Hagen im Bremischen (D)\,27628 Hagen im Bremischen
SUMMARY:Shantyfestival Hagen im Bremischen
URL:http://piratenkoor.destormvogels.nl/index.php?option=com_jem&view=event
 &id=324:shantyfestival-hagen-im-bremischen
END:VEVENT
END:VCALENDAR