BEGIN:VCALENDAR
VERSION:2.0
PRODID:-//213.154.231.201//NONSGML kigkonsult.se iCalcreator 2.20//
CALSCALE:GREGORIAN
METHOD:PUBLISH
X-WR-TIMEZONE:Europe/Amsterdam
BEGIN:VEVENT
UID:event327@Piratenkoor "de Stormvogels"
DTSTAMP:20260424T175718Z
CATEGORIES:Besloten    K.i.
DESCRIPTION:Parc Sentrum Sandur\nCategorie: Besloten    K.i.\nLink: http://
 piratenkoor.destormvogels.nl/index.php?option=com_jem&view=event&id=327:pa
 rc-sentrum-sandur\n
DTSTART;TZID=Europe/Amsterdam:20190922T133000
DTEND;TZID=Europe/Amsterdam:20190922T163000
LOCATION:Parc Centrum Sandur\,Sandurdreef 5\,7828 AA Emmen
SUMMARY:Parc Sentrum Sandur
URL:http://piratenkoor.destormvogels.nl/index.php?option=com_jem&view=event
 &id=327:parc-sentrum-sandur
END:VEVENT
END:VCALENDAR