BEGIN:VCALENDAR
VERSION:2.0
PRODID:-//213.154.231.201//NONSGML kigkonsult.se iCalcreator 2.20//
CALSCALE:GREGORIAN
METHOD:PUBLISH
X-WR-TIMEZONE:Europe/Amsterdam
BEGIN:VEVENT
UID:event328@Piratenkoor "de Stormvogels"
DTSTAMP:20260426T005248Z
CATEGORIES:Besloten    K.i.
DESCRIPTION:Branderfeesten Schiedam\nCategorie: Besloten    K.i.\nLink: htt
 p://piratenkoor.destormvogels.nl/index.php?option=com_jem&view=event&id=32
 8:branderfeesten-schiedam\n
DTSTART;TZID=Europe/Amsterdam:20190928T120000
DTEND;TZID=Europe/Amsterdam:20190928T170000
LOCATION:Schiedam\,Schiedam
SUMMARY:Branderfeesten Schiedam
URL:http://piratenkoor.destormvogels.nl/index.php?option=com_jem&view=event
 &id=328:branderfeesten-schiedam
END:VEVENT
END:VCALENDAR