BEGIN:VCALENDAR
VERSION:2.0
PRODID:-//213.154.231.201//NONSGML kigkonsult.se iCalcreator 2.20//
CALSCALE:GREGORIAN
METHOD:PUBLISH
X-WR-TIMEZONE:Europe/Amsterdam
BEGIN:VEVENT
UID:event329@Piratenkoor "de Stormvogels"
DTSTAMP:20260425T171132Z
CATEGORIES:Openbaar     G.i.
DESCRIPTION:Sailing Cup Wilhelmshaven\nCategorie: Openbaar     G.i.\nLink: 
 http://piratenkoor.destormvogels.nl/index.php?option=com_jem&view=event&id
 =329:sailing-cup-wilhelmshaven\n
DTSTART;TZID=Europe/Amsterdam:20190928T133000
DTEND;TZID=Europe/Amsterdam:20190929T153000
LOCATION:Wilhelmshaven (D)\,Bontekai\,26382 Wilhelmshaven
SUMMARY:Sailing Cup Wilhelmshaven
URL:http://piratenkoor.destormvogels.nl/index.php?option=com_jem&view=event
 &id=329:sailing-cup-wilhelmshaven
END:VEVENT
END:VCALENDAR