BEGIN:VCALENDAR
VERSION:2.0
PRODID:-//213.154.231.201//NONSGML kigkonsult.se iCalcreator 2.20//
CALSCALE:GREGORIAN
METHOD:PUBLISH
X-WR-TIMEZONE:Europe/Amsterdam
BEGIN:VEVENT
UID:event32@Piratenkoor "de Stormvogels"
DTSTAMP:20260424T175716Z
CATEGORIES:Openbaar    Onb
DESCRIPTION:Huizer botterdagen       Huizen\nCategorie: Openbaar    Onb\nLi
 nk: http://piratenkoor.destormvogels.nl/index.php?option=com_jem&view=even
 t&id=32:huizer-botterdagen-huizen\n
DTSTART;TZID=Europe/Amsterdam:20120915T103000
DTEND;TZID=Europe/Amsterdam:20120915T170000
LOCATION:Huizen\,Huizen
SUMMARY:Huizer botterdagen       Huizen
URL:http://piratenkoor.destormvogels.nl/index.php?option=com_jem&view=event
 &id=32:huizer-botterdagen-huizen
END:VEVENT
END:VCALENDAR