BEGIN:VCALENDAR
VERSION:2.0
PRODID:-//213.154.231.201//NONSGML kigkonsult.se iCalcreator 2.20//
CALSCALE:GREGORIAN
METHOD:PUBLISH
X-WR-TIMEZONE:Europe/Amsterdam
BEGIN:VEVENT
UID:event332@Piratenkoor "de Stormvogels"
DTSTAMP:20260424T165108Z
CATEGORIES:Openbaar     G.i.
DESCRIPTION:Woonmaand bij Kuchentreff\nCategorie: Openbaar     G.i.\nLink: 
 http://piratenkoor.destormvogels.nl/index.php?option=com_jem&view=event&id
 =332:woonmaand-bij-kuchentreff\n
DTSTART;TZID=Europe/Amsterdam:20191012T130000
DTEND;TZID=Europe/Amsterdam:20191012T160000
LOCATION:Stadskanaal\,Stadskanaal
SUMMARY:Woonmaand bij Kuchentreff
URL:http://piratenkoor.destormvogels.nl/index.php?option=com_jem&view=event
 &id=332:woonmaand-bij-kuchentreff
END:VEVENT
END:VCALENDAR