BEGIN:VCALENDAR
VERSION:2.0
PRODID:-//213.154.231.201//NONSGML kigkonsult.se iCalcreator 2.20//
CALSCALE:GREGORIAN
METHOD:PUBLISH
X-WR-TIMEZONE:Europe/Amsterdam
BEGIN:VEVENT
UID:event334@Piratenkoor "de Stormvogels"
DTSTAMP:20260424T212505Z
CATEGORIES:Besloten    Onb
DESCRIPTION:Fam. ter Horst\nCategorie: Besloten    Onb\nLink: http://pirate
 nkoor.destormvogels.nl/index.php?option=com_jem&view=event&id=334:fam-ter-
 horst\n
DTSTART;TZID=Europe/Amsterdam:20191130T140000
DTEND;TZID=Europe/Amsterdam:20191130T150000
LOCATION:Schoonoord\,Kibbelveen 1\,7848 TA Schoonoord
SUMMARY:Fam. ter Horst
URL:http://piratenkoor.destormvogels.nl/index.php?option=com_jem&view=event
 &id=334:fam-ter-horst
END:VEVENT
END:VCALENDAR