BEGIN:VCALENDAR
VERSION:2.0
PRODID:-//213.154.231.201//NONSGML kigkonsult.se iCalcreator 2.20//
CALSCALE:GREGORIAN
METHOD:PUBLISH
X-WR-TIMEZONE:Europe/Amsterdam
BEGIN:VEVENT
UID:event335@Piratenkoor "de Stormvogels"
DTSTAMP:20260425T171126Z
CATEGORIES:Openbaar     G.i.
DESCRIPTION:Kerstmarkt / Winteravondfeest\nCategorie: Openbaar     G.i.\nLi
 nk: http://piratenkoor.destormvogels.nl/index.php?option=com_jem&view=even
 t&id=335:kerstmarkt\n
DTSTART;TZID=Europe/Amsterdam:20191207T183000
DTEND;TZID=Europe/Amsterdam:20191207T203000
LOCATION:Appelscha\,Appelscha
SUMMARY:Kerstmarkt / Winteravondfeest
URL:http://piratenkoor.destormvogels.nl/index.php?option=com_jem&view=event
 &id=335:kerstmarkt
END:VEVENT
END:VCALENDAR