BEGIN:VCALENDAR
VERSION:2.0
PRODID:-//213.154.231.201//NONSGML kigkonsult.se iCalcreator 2.20//
CALSCALE:GREGORIAN
METHOD:PUBLISH
X-WR-TIMEZONE:Europe/Amsterdam
BEGIN:VEVENT
UID:event338@Piratenkoor "de Stormvogels"
DTSTAMP:20260425T005755Z
CATEGORIES:Openbaar     G.i.
DESCRIPTION:Parc Centrum Sandur   Kerstspecial\nCategorie: Openbaar     G.i
 .\nLink: http://piratenkoor.destormvogels.nl/index.php?option=com_jem&view
 =event&id=338:park-centrum-sandur-kerstspecial\n
DTSTART;TZID=Europe/Amsterdam:20191222T133000
DTEND;TZID=Europe/Amsterdam:20191222T163000
LOCATION:Parc Centrum Sandur\,Sandurdreef 5\,7828 AA Emmen
SUMMARY:Parc Centrum Sandur   Kerstspecial
URL:http://piratenkoor.destormvogels.nl/index.php?option=com_jem&view=event
 &id=338:park-centrum-sandur-kerstspecial
END:VEVENT
END:VCALENDAR