BEGIN:VCALENDAR
VERSION:2.0
PRODID:-//213.154.231.201//NONSGML kigkonsult.se iCalcreator 2.20//
CALSCALE:GREGORIAN
METHOD:PUBLISH
X-WR-TIMEZONE:Europe/Amsterdam
BEGIN:VEVENT
UID:event339@Piratenkoor "de Stormvogels"
DTSTAMP:20260424T192157Z
CATEGORIES:Besloten    Derden
DESCRIPTION:Nieuwjaarsbijeenkomst\nCategorie: Besloten    Derden\nLink: htt
 p://piratenkoor.destormvogels.nl/index.php?option=com_jem&view=event&id=33
 9:nieuwjaarsbijeenkomst\n
DTSTART;TZID=Europe/Amsterdam:20200110T200000
DTEND;TZID=Europe/Amsterdam:20200110T235900
LOCATION:'t Schienvat op Erica\,Heidebloemstraat 4\,7887 EB Erica
SUMMARY:Nieuwjaarsbijeenkomst
URL:http://piratenkoor.destormvogels.nl/index.php?option=com_jem&view=event
 &id=339:nieuwjaarsbijeenkomst
END:VEVENT
END:VCALENDAR