BEGIN:VCALENDAR
VERSION:2.0
PRODID:-//213.154.231.201//NONSGML kigkonsult.se iCalcreator 2.20//
CALSCALE:GREGORIAN
METHOD:PUBLISH
X-WR-TIMEZONE:Europe/Amsterdam
BEGIN:VEVENT
UID:event340@Piratenkoor "de Stormvogels"
DTSTAMP:20260425T175717Z
CATEGORIES:Besloten    K.i.
DESCRIPTION:De Schoel\nCategorie: Besloten    K.i.\nLink: http://piratenkoo
 r.destormvogels.nl/index.php?option=com_jem&view=event&id=340:de-schoel\n
DTSTART;TZID=Europe/Amsterdam:20200211T193000
DTEND;TZID=Europe/Amsterdam:20200211T213000
LOCATION:Sleen\,Drostenstraat 1\,Sleen
SUMMARY:De Schoel
URL:http://piratenkoor.destormvogels.nl/index.php?option=com_jem&view=event
 &id=340:de-schoel
END:VEVENT
END:VCALENDAR