BEGIN:VCALENDAR
VERSION:2.0
PRODID:-//213.154.231.201//NONSGML kigkonsult.se iCalcreator 2.20//
CALSCALE:GREGORIAN
METHOD:PUBLISH
X-WR-TIMEZONE:Europe/Amsterdam
BEGIN:VEVENT
UID:event342@Piratenkoor "de Stormvogels"
DTSTAMP:20260424T151036Z
CATEGORIES:Openbaar   Derden
DESCRIPTION:Pinksterfestival Brummen  'AFGELAST'\nCategorie: Openbaar   Der
 den\nLink: http://piratenkoor.destormvogels.nl/index.php?option=com_jem&vi
 ew=event&id=342:pinksterfestival-brummen\n
DTSTART;TZID=Europe/Amsterdam:20200601T120000
DTEND;TZID=Europe/Amsterdam:20200601T170000
LOCATION:Brummen\,Kerkstraat 17\,6971 AE Brummen
SUMMARY:Pinksterfestival Brummen  'AFGELAST'
URL:http://piratenkoor.destormvogels.nl/index.php?option=com_jem&view=event
 &id=342:pinksterfestival-brummen
END:VEVENT
END:VCALENDAR