BEGIN:VCALENDAR
VERSION:2.0
PRODID:-//213.154.231.201//NONSGML kigkonsult.se iCalcreator 2.20//
CALSCALE:GREGORIAN
METHOD:PUBLISH
X-WR-TIMEZONE:Europe/Amsterdam
BEGIN:VEVENT
UID:event346@Piratenkoor "de Stormvogels"
DTSTAMP:20260425T194109Z
CATEGORIES:Openbaar    Onb
DESCRIPTION:8e Veenvaart Shantyfestival  'AFGELAST'\nCategorie: Openbaar   
  Onb\nLink: http://piratenkoor.destormvogels.nl/index.php?option=com_jem&v
 iew=event&id=346:8e-veenvaart-shantyfestival\n
DTSTART;TZID=Europe/Amsterdam:20200816T110000
DTEND;TZID=Europe/Amsterdam:20200816T173000
LOCATION:Emmer-Compascuum\,Emmer-Compascuum
SUMMARY:8e Veenvaart Shantyfestival  'AFGELAST'
URL:http://piratenkoor.destormvogels.nl/index.php?option=com_jem&view=event
 &id=346:8e-veenvaart-shantyfestival
END:VEVENT
END:VCALENDAR