BEGIN:VCALENDAR
VERSION:2.0
PRODID:-//213.154.231.201//NONSGML kigkonsult.se iCalcreator 2.20//
CALSCALE:GREGORIAN
METHOD:PUBLISH
X-WR-TIMEZONE:Europe/Amsterdam
BEGIN:VEVENT
UID:event348@Piratenkoor "de Stormvogels"
DTSTAMP:20260424T212501Z
CATEGORIES:Openbaar   Derden
DESCRIPTION:Havendagen Kampen  'AFGELAST'\nCategorie: Openbaar   Derden\nLi
 nk: http://piratenkoor.destormvogels.nl/index.php?option=com_jem&view=even
 t&id=348:havendagen-kampen\n
DTSTART;TZID=Europe/Amsterdam:20200822T110000
DTEND;TZID=Europe/Amsterdam:20200822T170000
LOCATION:Kampen\,IJsselkade\,Kampen
SUMMARY:Havendagen Kampen  'AFGELAST'
URL:http://piratenkoor.destormvogels.nl/index.php?option=com_jem&view=event
 &id=348:havendagen-kampen
END:VEVENT
END:VCALENDAR