BEGIN:VCALENDAR
VERSION:2.0
PRODID:-//213.154.231.201//NONSGML kigkonsult.se iCalcreator 2.20//
CALSCALE:GREGORIAN
METHOD:PUBLISH
X-WR-TIMEZONE:Europe/Amsterdam
BEGIN:VEVENT
UID:event349@Piratenkoor "de Stormvogels"
DTSTAMP:20260424T165328Z
CATEGORIES:Optie
DESCRIPTION:Shantyfestival Leeuwarden  'AFGELAST'\nCategorie: Optie\nLink: 
 http://piratenkoor.destormvogels.nl/index.php?option=com_jem&view=event&id
 =349:shantyfestival-leeuwarden\n
DTSTART;TZID=Europe/Amsterdam:20200912T110000
DTEND;TZID=Europe/Amsterdam:20200912T170000
LOCATION:Leeuwarden\,Nieuwestad\,Leeuwarden
SUMMARY:Shantyfestival Leeuwarden  'AFGELAST'
URL:http://piratenkoor.destormvogels.nl/index.php?option=com_jem&view=event
 &id=349:shantyfestival-leeuwarden
END:VEVENT
END:VCALENDAR