BEGIN:VCALENDAR
VERSION:2.0
PRODID:-//213.154.231.201//NONSGML kigkonsult.se iCalcreator 2.20//
CALSCALE:GREGORIAN
METHOD:PUBLISH
X-WR-TIMEZONE:Europe/Amsterdam
BEGIN:VEVENT
UID:event34@Piratenkoor "de Stormvogels"
DTSTAMP:20260424T220731Z
CATEGORIES:Besloten    Onb
DESCRIPTION:Shantyfestival  Tussen Rijn en Lek\nCategorie: Besloten    Onb
 \nLink: http://piratenkoor.destormvogels.nl/index.php?option=com_jem&view=
 event&id=34:shantyfestival-tussen-rijn-en-lek\n
DTSTART;TZID=Europe/Amsterdam:20120929T080000
DTEND;TZID=Europe/Amsterdam:20120929T180000
LOCATION:Wijk bij Duurstede\,Centrum\,Wijk bij Duurstede
SUMMARY:Shantyfestival  Tussen Rijn en Lek
URL:http://piratenkoor.destormvogels.nl/index.php?option=com_jem&view=event
 &id=34:shantyfestival-tussen-rijn-en-lek
END:VEVENT
END:VCALENDAR