BEGIN:VCALENDAR
VERSION:2.0
PRODID:-//213.154.231.201//NONSGML kigkonsult.se iCalcreator 2.20//
CALSCALE:GREGORIAN
METHOD:PUBLISH
X-WR-TIMEZONE:Europe/Amsterdam
BEGIN:VEVENT
UID:event351@Piratenkoor "de Stormvogels"
DTSTAMP:20260424T152446Z
CATEGORIES:Besloten    K.i.
DESCRIPTION:Nieuwjaarviering Maartenshof \nCategorie: Besloten    K.i.\nLin
 k: http://piratenkoor.destormvogels.nl/index.php?option=com_jem&view=event
 &id=351:nieuwjaarviering-maartenshof\n
DTSTART;TZID=Europe/Amsterdam:20200105T150000
DTEND;TZID=Europe/Amsterdam:20200105T163000
LOCATION:Groningen\,Groningen
SUMMARY:Nieuwjaarviering Maartenshof 
URL:http://piratenkoor.destormvogels.nl/index.php?option=com_jem&view=event
 &id=351:nieuwjaarviering-maartenshof
END:VEVENT
END:VCALENDAR