BEGIN:VCALENDAR
VERSION:2.0
PRODID:-//213.154.231.201//NONSGML kigkonsult.se iCalcreator 2.20//
CALSCALE:GREGORIAN
METHOD:PUBLISH
X-WR-TIMEZONE:Europe/Amsterdam
BEGIN:VEVENT
UID:event354@Piratenkoor "de Stormvogels"
DTSTAMP:20260424T175720Z
CATEGORIES:Openbaar     G.i.
DESCRIPTION:Noorderbak   'AFGELAST'\nCategorie: Openbaar     G.i.\nLink: ht
 tp://piratenkoor.destormvogels.nl/index.php?option=com_jem&view=event&id=3
 54:noorderbak\n
DTSTART;TZID=Europe/Amsterdam:20201121T200000
DTEND;TZID=Europe/Amsterdam:20201121T230000
LOCATION:Roswinkel\,Roswinkelerstraat 81B\,7895 AN Roswinkel
SUMMARY:Noorderbak   'AFGELAST'
URL:http://piratenkoor.destormvogels.nl/index.php?option=com_jem&view=event
 &id=354:noorderbak
END:VEVENT
END:VCALENDAR