BEGIN:VCALENDAR
VERSION:2.0
PRODID:-//213.154.231.201//NONSGML kigkonsult.se iCalcreator 2.20//
CALSCALE:GREGORIAN
METHOD:PUBLISH
X-WR-TIMEZONE:Europe/Amsterdam
BEGIN:VEVENT
UID:event356@Piratenkoor "de Stormvogels"
DTSTAMP:20260425T171133Z
CATEGORIES:Openbaar    Onb
DESCRIPTION:de Holdert  'AFGELAST'\nCategorie: Openbaar    Onb\nLink: http:
 //piratenkoor.destormvogels.nl/index.php?option=com_jem&view=event&id=356:
 de-holdert\n
DTSTART;TZID=Europe/Amsterdam:20201008T193000
DTEND;TZID=Europe/Amsterdam:20201008T213000
LOCATION:de Holdert\, Emmen\,Hondsrugweg 101\,7811 AB Emmen
SUMMARY:de Holdert  'AFGELAST'
URL:http://piratenkoor.destormvogels.nl/index.php?option=com_jem&view=event
 &id=356:de-holdert
END:VEVENT
END:VCALENDAR