BEGIN:VCALENDAR
VERSION:2.0
PRODID:-//213.154.231.201//NONSGML kigkonsult.se iCalcreator 2.20//
CALSCALE:GREGORIAN
METHOD:PUBLISH
X-WR-TIMEZONE:Europe/Amsterdam
BEGIN:VEVENT
UID:event357@Piratenkoor "de Stormvogels"
DTSTAMP:20260424T174154Z
CATEGORIES:Openbaar     G.i.
DESCRIPTION:18e Int. Shanty & Seasong festival  'AFGELAST'\nCategorie: Open
 baar     G.i.\nLink: http://piratenkoor.destormvogels.nl/index.php?option=
 com_jem&view=event&id=357:18e-int-shanty-seasong-festival\n
DTSTART;TZID=Europe/Amsterdam:20200913T110000
DTEND;TZID=Europe/Amsterdam:20200913T173000
LOCATION:Emmen\, Marktplein\,Marktplein\,Emmen
SUMMARY:18e Int. Shanty & Seasong festival  'AFGELAST'
URL:http://piratenkoor.destormvogels.nl/index.php?option=com_jem&view=event
 &id=357:18e-int-shanty-seasong-festival
END:VEVENT
END:VCALENDAR