BEGIN:VCALENDAR
VERSION:2.0
PRODID:-//213.154.231.201//NONSGML kigkonsult.se iCalcreator 2.20//
CALSCALE:GREGORIAN
METHOD:PUBLISH
X-WR-TIMEZONE:Europe/Amsterdam
BEGIN:VEVENT
UID:event358@Piratenkoor "de Stormvogels"
DTSTAMP:20260425T104710Z
CATEGORIES:Openbaar     G.i.
DESCRIPTION:feest bij  Kuchentreff 'Afgelast'  verplaatst naar 5-09-2020\nC
 ategorie: Openbaar     G.i.\nLink: http://piratenkoor.destormvogels.nl/ind
 ex.php?option=com_jem&view=event&id=358:feest-bij-kuchentreff\n
DTSTART;TZID=Europe/Amsterdam:20200606T130000
DTEND;TZID=Europe/Amsterdam:20200606T160000
LOCATION:Stadskanaal\,Stadskanaal
SUMMARY:feest bij  Kuchentreff 'Afgelast'  verplaatst naar 5-09-2020
URL:http://piratenkoor.destormvogels.nl/index.php?option=com_jem&view=event
 &id=358:feest-bij-kuchentreff
END:VEVENT
END:VCALENDAR