BEGIN:VCALENDAR
VERSION:2.0
PRODID:-//213.154.231.201//NONSGML kigkonsult.se iCalcreator 2.20//
CALSCALE:GREGORIAN
METHOD:PUBLISH
X-WR-TIMEZONE:Europe/Amsterdam
BEGIN:VEVENT
UID:event35@Piratenkoor "de Stormvogels"
DTSTAMP:20260424T175713Z
CATEGORIES:Openbaar    Onb
DESCRIPTION:Houthakkersfeest\nCategorie: Openbaar    Onb\nLink: http://pira
 tenkoor.destormvogels.nl/index.php?option=com_jem&view=event&id=35:houthak
 kersfeest\n
DTSTART;TZID=Europe/Amsterdam:20121006T153000
DTEND;TZID=Europe/Amsterdam:20121006T163000
LOCATION:Schoonebeek\,Schoonebeek
SUMMARY:Houthakkersfeest
URL:http://piratenkoor.destormvogels.nl/index.php?option=com_jem&view=event
 &id=35:houthakkersfeest
END:VEVENT
END:VCALENDAR