BEGIN:VCALENDAR
VERSION:2.0
PRODID:-//213.154.231.201//NONSGML kigkonsult.se iCalcreator 2.20//
CALSCALE:GREGORIAN
METHOD:PUBLISH
X-WR-TIMEZONE:Europe/Amsterdam
BEGIN:VEVENT
UID:event360@Piratenkoor "de Stormvogels"
DTSTAMP:20260424T142815Z
CATEGORIES:Openbaar    Onb
DESCRIPTION:Oalerwets Feesie 'AFGELAST'  tot 1-05-2021\nCategorie: Openbaar
     Onb\nLink: http://piratenkoor.destormvogels.nl/index.php?option=com_je
 m&view=event&id=360:bovensmilde\n
DTSTART;TZID=Europe/Amsterdam:20200502T140000
DTEND;TZID=Europe/Amsterdam:20200502T170000
LOCATION:Bovensmilde\,Bovensmilde
SUMMARY:Oalerwets Feesie 'AFGELAST'  tot 1-05-2021
URL:http://piratenkoor.destormvogels.nl/index.php?option=com_jem&view=event
 &id=360:bovensmilde
END:VEVENT
END:VCALENDAR