BEGIN:VCALENDAR
VERSION:2.0
PRODID:-//213.154.231.201//NONSGML kigkonsult.se iCalcreator 2.20//
CALSCALE:GREGORIAN
METHOD:PUBLISH
X-WR-TIMEZONE:Europe/Amsterdam
BEGIN:VEVENT
UID:event362@Piratenkoor "de Stormvogels"
DTSTAMP:20260424T175723Z
CATEGORIES:Openbaar   Derden
DESCRIPTION:Biesbosch shanty festival  'AFGELAST'\nCategorie: Openbaar   De
 rden\nLink: http://piratenkoor.destormvogels.nl/index.php?option=com_jem&v
 iew=event&id=362:werkendam\n
DTSTART;TZID=Europe/Amsterdam:20200926T110000
DTEND;TZID=Europe/Amsterdam:20200926T110000
LOCATION:Werkendam\,Hoogstraat\,Werkendam
SUMMARY:Biesbosch shanty festival  'AFGELAST'
URL:http://piratenkoor.destormvogels.nl/index.php?option=com_jem&view=event
 &id=362:werkendam
END:VEVENT
END:VCALENDAR