BEGIN:VCALENDAR
VERSION:2.0
PRODID:-//213.154.231.201//NONSGML kigkonsult.se iCalcreator 2.20//
CALSCALE:GREGORIAN
METHOD:PUBLISH
X-WR-TIMEZONE:Europe/Amsterdam
BEGIN:VEVENT
UID:event365@Piratenkoor "de Stormvogels"
DTSTAMP:20260424T163435Z
CATEGORIES:Openbaar   Derden
DESCRIPTION:Sailing CUP Wilhelmshaven  'AFGELAST'\nCategorie: Openbaar   De
 rden\nLink: http://piratenkoor.destormvogels.nl/index.php?option=com_jem&v
 iew=event&id=365:sailing-cup-wilhelmshaven\n
DTSTART;TZID=Europe/Amsterdam:20201003T144500
DTEND;TZID=Europe/Amsterdam:20201004T153000
LOCATION:Wilhelmshaven (D)\,Bontekai\,26382 Wilhelmshaven
SUMMARY:Sailing CUP Wilhelmshaven  'AFGELAST'
URL:http://piratenkoor.destormvogels.nl/index.php?option=com_jem&view=event
 &id=365:sailing-cup-wilhelmshaven
END:VEVENT
END:VCALENDAR