BEGIN:VCALENDAR
VERSION:2.0
PRODID:-//213.154.231.201//NONSGML kigkonsult.se iCalcreator 2.20//
CALSCALE:GREGORIAN
METHOD:PUBLISH
X-WR-TIMEZONE:Europe/Amsterdam
BEGIN:VEVENT
UID:event368@Piratenkoor "de Stormvogels"
DTSTAMP:20260424T191601Z
CATEGORIES:Besloten    K.i.
DESCRIPTION:BCO groep Emmermeer Meerstede 'AFGELAST'\nCategorie: Besloten  
   K.i.\nLink: http://piratenkoor.destormvogels.nl/index.php?option=com_jem
 &view=event&id=368:bco-groep-emmermeer-meerstede\n
DTSTART;TZID=Europe/Amsterdam:20200513T140000
DTEND;TZID=Europe/Amsterdam:20200513T140000
LOCATION:Emmen\, Emmermeer\,Emmen
SUMMARY:BCO groep Emmermeer Meerstede 'AFGELAST'
URL:http://piratenkoor.destormvogels.nl/index.php?option=com_jem&view=event
 &id=368:bco-groep-emmermeer-meerstede
END:VEVENT
END:VCALENDAR